BEGIN:VCALENDAR
VERSION:2.0
PRODID:-//evApart Eva-Maria Gradwohl - ECPv6.15.20//NONSGML v1.0//EN
CALSCALE:GREGORIAN
METHOD:PUBLISH
X-WR-CALNAME:evApart Eva-Maria Gradwohl
X-ORIGINAL-URL:https://www.evapart.at
X-WR-CALDESC:Veranstaltungen für evApart Eva-Maria Gradwohl
REFRESH-INTERVAL;VALUE=DURATION:PT1H
X-Robots-Tag:noindex
X-PUBLISHED-TTL:PT1H
BEGIN:VTIMEZONE
TZID:Europe/Vienna
BEGIN:DAYLIGHT
TZOFFSETFROM:+0100
TZOFFSETTO:+0200
TZNAME:CEST
DTSTART:20250330T010000
END:DAYLIGHT
BEGIN:STANDARD
TZOFFSETFROM:+0200
TZOFFSETTO:+0100
TZNAME:CET
DTSTART:20251026T010000
END:STANDARD
BEGIN:DAYLIGHT
TZOFFSETFROM:+0100
TZOFFSETTO:+0200
TZNAME:CEST
DTSTART:20260329T010000
END:DAYLIGHT
BEGIN:STANDARD
TZOFFSETFROM:+0200
TZOFFSETTO:+0100
TZNAME:CET
DTSTART:20261025T010000
END:STANDARD
BEGIN:DAYLIGHT
TZOFFSETFROM:+0100
TZOFFSETTO:+0200
TZNAME:CEST
DTSTART:20270328T010000
END:DAYLIGHT
BEGIN:STANDARD
TZOFFSETFROM:+0200
TZOFFSETTO:+0100
TZNAME:CET
DTSTART:20271031T010000
END:STANDARD
END:VTIMEZONE
BEGIN:VEVENT
DTSTART;TZID=Europe/Vienna:20260509T083000
DTEND;TZID=Europe/Vienna:20260509T083000
DTSTAMP:20260420T192748
CREATED:20260414T063329Z
LAST-MODIFIED:20260414T074133Z
UID:380-1778315400-1778315400@www.evapart.at
SUMMARY:Trainingsbetrieb Stubenbergsee ab 8:30Uhr
DESCRIPTION:Bitte um Anmeldung.
URL:https://www.evapart.at/event/trainingsbetrieb-stubenbergsee-ab-830uhr/
LOCATION:Stubenberg See\, Buchberg 20\, Stubenberg\, Steiermark\, 8223\, Austria
END:VEVENT
END:VCALENDAR