BEGIN:VCALENDAR
VERSION:2.0
PRODID:-//evApart Eva-Maria Gradwohl - ECPv6.15.20//NONSGML v1.0//EN
CALSCALE:GREGORIAN
METHOD:PUBLISH
X-WR-CALNAME:evApart Eva-Maria Gradwohl
X-ORIGINAL-URL:https://www.evapart.at
X-WR-CALDESC:Veranstaltungen für evApart Eva-Maria Gradwohl
REFRESH-INTERVAL;VALUE=DURATION:PT1H
X-Robots-Tag:noindex
X-PUBLISHED-TTL:PT1H
BEGIN:VTIMEZONE
TZID:Europe/Vienna
BEGIN:DAYLIGHT
TZOFFSETFROM:+0100
TZOFFSETTO:+0200
TZNAME:CEST
DTSTART:20250330T010000
END:DAYLIGHT
BEGIN:STANDARD
TZOFFSETFROM:+0200
TZOFFSETTO:+0100
TZNAME:CET
DTSTART:20251026T010000
END:STANDARD
BEGIN:DAYLIGHT
TZOFFSETFROM:+0100
TZOFFSETTO:+0200
TZNAME:CEST
DTSTART:20260329T010000
END:DAYLIGHT
BEGIN:STANDARD
TZOFFSETFROM:+0200
TZOFFSETTO:+0100
TZNAME:CET
DTSTART:20261025T010000
END:STANDARD
BEGIN:DAYLIGHT
TZOFFSETFROM:+0100
TZOFFSETTO:+0200
TZNAME:CEST
DTSTART:20270328T010000
END:DAYLIGHT
BEGIN:STANDARD
TZOFFSETFROM:+0200
TZOFFSETTO:+0100
TZNAME:CET
DTSTART:20271031T010000
END:STANDARD
END:VTIMEZONE
BEGIN:VEVENT
DTSTART;TZID=Europe/Vienna:20260404T144500
DTEND;TZID=Europe/Vienna:20260404T144500
DTSTAMP:20260420T173420
CREATED:20260315T064016Z
LAST-MODIFIED:20260315T070222Z
UID:371-1775313900-1775313900@www.evapart.at
SUMMARY:Messmöglichkeit Heilthermen Resort Bad Waltersdorf
DESCRIPTION:Bitte nur nach Voranmeldung unter 0664/2423122.
URL:https://www.evapart.at/event/messmoeglichkeit-heilthermen-resort-bad-waltersdorf-3/
LOCATION:Steiermark
CATEGORIES:Messtermin
END:VEVENT
END:VCALENDAR