BEGIN:VCALENDAR
VERSION:2.0
PRODID:-//evApart Eva-Maria Gradwohl - ECPv6.15.20//NONSGML v1.0//EN
CALSCALE:GREGORIAN
METHOD:PUBLISH
X-ORIGINAL-URL:https://www.evapart.at
X-WR-CALDESC:Veranstaltungen für evApart Eva-Maria Gradwohl
REFRESH-INTERVAL;VALUE=DURATION:PT1H
X-Robots-Tag:noindex
X-PUBLISHED-TTL:PT1H
BEGIN:VTIMEZONE
TZID:Europe/Vienna
BEGIN:DAYLIGHT
TZOFFSETFROM:+0100
TZOFFSETTO:+0200
TZNAME:CEST
DTSTART:20250330T010000
END:DAYLIGHT
BEGIN:STANDARD
TZOFFSETFROM:+0200
TZOFFSETTO:+0100
TZNAME:CET
DTSTART:20251026T010000
END:STANDARD
BEGIN:DAYLIGHT
TZOFFSETFROM:+0100
TZOFFSETTO:+0200
TZNAME:CEST
DTSTART:20260329T010000
END:DAYLIGHT
BEGIN:STANDARD
TZOFFSETFROM:+0200
TZOFFSETTO:+0100
TZNAME:CET
DTSTART:20261025T010000
END:STANDARD
BEGIN:DAYLIGHT
TZOFFSETFROM:+0100
TZOFFSETTO:+0200
TZNAME:CEST
DTSTART:20270328T010000
END:DAYLIGHT
BEGIN:STANDARD
TZOFFSETFROM:+0200
TZOFFSETTO:+0100
TZNAME:CET
DTSTART:20271031T010000
END:STANDARD
END:VTIMEZONE
BEGIN:VEVENT
DTSTART;TZID=Europe/Vienna:20260328T150000
DTEND;TZID=Europe/Vienna:20260328T150000
DTSTAMP:20260423T125219
CREATED:20260219T083301Z
LAST-MODIFIED:20260219T084742Z
UID:365-1774710000-1774710000@www.evapart.at
SUMMARY:Messmöglichkeit Heilthermen Resort Bad Waltersdorf
DESCRIPTION:Bitte nur nach ausdrücklicher Voranmeldung ab 14:45Uhr möglich.
URL:https://www.evapart.at/event/messmoeglichkeit-heilthermen-resort-bad-waltersdorf-2/
LOCATION:Heiltherme Bad Waltersdorf\, Thermenstraße 111\, Bad Waltersdorf\, Steiermark\, 8271\, Austria
CATEGORIES:Messtermin
END:VEVENT
END:VCALENDAR